BEGIN:VCALENDAR
VERSION:2.0
PRODID:-//Norkirken Bergen - ECPv6.15.20//NONSGML v1.0//EN
CALSCALE:GREGORIAN
METHOD:PUBLISH
X-WR-CALNAME:Norkirken Bergen
X-ORIGINAL-URL:https://norkirken.no
X-WR-CALDESC:Arrangement for Norkirken Bergen
REFRESH-INTERVAL;VALUE=DURATION:PT1H
X-Robots-Tag:noindex
X-PUBLISHED-TTL:PT1H
BEGIN:VTIMEZONE
TZID:Europe/Oslo
BEGIN:DAYLIGHT
TZOFFSETFROM:+0100
TZOFFSETTO:+0200
TZNAME:CEST
DTSTART:20240331T010000
END:DAYLIGHT
BEGIN:STANDARD
TZOFFSETFROM:+0200
TZOFFSETTO:+0100
TZNAME:CET
DTSTART:20241027T010000
END:STANDARD
BEGIN:DAYLIGHT
TZOFFSETFROM:+0100
TZOFFSETTO:+0200
TZNAME:CEST
DTSTART:20250330T010000
END:DAYLIGHT
BEGIN:STANDARD
TZOFFSETFROM:+0200
TZOFFSETTO:+0100
TZNAME:CET
DTSTART:20251026T010000
END:STANDARD
BEGIN:DAYLIGHT
TZOFFSETFROM:+0100
TZOFFSETTO:+0200
TZNAME:CEST
DTSTART:20260329T010000
END:DAYLIGHT
BEGIN:STANDARD
TZOFFSETFROM:+0200
TZOFFSETTO:+0100
TZNAME:CET
DTSTART:20261025T010000
END:STANDARD
END:VTIMEZONE
BEGIN:VEVENT
DTSTART;TZID=Europe/Oslo:20250302T190000
DTEND;TZID=Europe/Oslo:20250302T210000
DTSTAMP:20260425T223024
CREATED:20240620T220000Z
LAST-MODIFIED:20240620T220000Z
UID:28841-1740942000-1740949200@norkirken.no
SUMMARY:G19 - Kveldsmat\, bønn og lovsang
DESCRIPTION:Vi inviterer til en uformell og koselig kveldsmat med hyggelige folk\, og en fin anledning til å bli kjent med nye. Som navnet sier\, blir det kveldsmat\, andakt\, bønn og lovsang.
URL:https://norkirken.no/hendelser/g19-kveldsmat-bonn-og-lovsang-sondag-2-mars-2025/
CATEGORIES:Gudstjeneste,Kveldsgudstjeneste,Student og unge voksne
END:VEVENT
BEGIN:VEVENT
DTSTART;TZID=Europe/Oslo:20250316T190000
DTEND;TZID=Europe/Oslo:20250316T210000
DTSTAMP:20260425T223024
CREATED:20240620T220000Z
LAST-MODIFIED:20240620T220000Z
UID:28844-1742151600-1742158800@norkirken.no
SUMMARY:G19 - Kveldsmat\, bønn og lovsang
DESCRIPTION:Vi inviterer til en uformell og koselig kveldsmat med hyggelige folk\, og en fin anledning til å bli kjent med nye. Som navnet sier\, blir det kveldsmat\, andakt\, bønn og lovsang.
URL:https://norkirken.no/hendelser/g19-kveldsmat-bonn-og-lovsang-sondag-16-mars-2025/
CATEGORIES:Gudstjeneste,Kveldsgudstjeneste,Student og unge voksne
END:VEVENT
BEGIN:VEVENT
DTSTART;TZID=Europe/Oslo:20250330T190000
DTEND;TZID=Europe/Oslo:20250330T210000
DTSTAMP:20260425T223024
CREATED:20240620T220000Z
LAST-MODIFIED:20240620T220000Z
UID:28835-1743361200-1743368400@norkirken.no
SUMMARY:G19 - Kveldsmat\, bønn og lovsang
DESCRIPTION:Vi inviterer til en uformell og koselig kveldsmat med hyggelige folk\, og en fin anledning til å bli kjent med nye. Som navnet sier\, blir det kveldsmat\, andakt\, bønn og lovsang.
URL:https://norkirken.no/hendelser/g19-kveldsmat-bonn-og-lovsang-sondag-30-mars-2025/
CATEGORIES:Gudstjeneste,Kveldsgudstjeneste,Student og unge voksne
END:VEVENT
END:VCALENDAR