BEGIN:VCALENDAR
VERSION:2.0
PRODID:-//Norkirken Bergen - ECPv6.15.20//NONSGML v1.0//EN
CALSCALE:GREGORIAN
METHOD:PUBLISH
X-ORIGINAL-URL:https://norkirken.no
X-WR-CALDESC:Arrangement for Norkirken Bergen
REFRESH-INTERVAL;VALUE=DURATION:PT1H
X-Robots-Tag:noindex
X-PUBLISHED-TTL:PT1H
BEGIN:VTIMEZONE
TZID:Europe/Oslo
BEGIN:DAYLIGHT
TZOFFSETFROM:+0100
TZOFFSETTO:+0200
TZNAME:CEST
DTSTART:20230326T010000
END:DAYLIGHT
BEGIN:STANDARD
TZOFFSETFROM:+0200
TZOFFSETTO:+0100
TZNAME:CET
DTSTART:20231029T010000
END:STANDARD
BEGIN:DAYLIGHT
TZOFFSETFROM:+0100
TZOFFSETTO:+0200
TZNAME:CEST
DTSTART:20240331T010000
END:DAYLIGHT
BEGIN:STANDARD
TZOFFSETFROM:+0200
TZOFFSETTO:+0100
TZNAME:CET
DTSTART:20241027T010000
END:STANDARD
BEGIN:DAYLIGHT
TZOFFSETFROM:+0100
TZOFFSETTO:+0200
TZNAME:CEST
DTSTART:20250330T010000
END:DAYLIGHT
BEGIN:STANDARD
TZOFFSETFROM:+0200
TZOFFSETTO:+0100
TZNAME:CET
DTSTART:20251026T010000
END:STANDARD
END:VTIMEZONE
BEGIN:VEVENT
DTSTART;TZID=Europe/Oslo:20241110T190000
DTEND;TZID=Europe/Oslo:20241110T210000
DTSTAMP:20260426T033408
CREATED:20240620T220000Z
LAST-MODIFIED:20240620T220000Z
UID:28850-1731265200-1731272400@norkirken.no
SUMMARY:G19 - Kveldsmat\, bønn og lovsang
DESCRIPTION:Vi inviterer til en uformell og koselig kveldsmat med hyggelige folk\, og en fin anledning til å bli kjent med nye. Som navnet sier\, blir det kveldsmat\, andakt\, bønn og lovsang.
URL:https://norkirken.no/hendelser/g19-kveldsmat-bonn-og-lovsang-sondag-10-november-2024/
CATEGORIES:Gudstjeneste,Kveldsgudstjeneste,Student og unge voksne
END:VEVENT
BEGIN:VEVENT
DTSTART;TZID=Europe/Oslo:20241124T190000
DTEND;TZID=Europe/Oslo:20241124T210000
DTSTAMP:20260426T033408
CREATED:20240620T220000Z
LAST-MODIFIED:20240620T220000Z
UID:28840-1732474800-1732482000@norkirken.no
SUMMARY:G19 - Kveldsmat\, bønn og lovsang
DESCRIPTION:Vi inviterer til en uformell og koselig kveldsmat med hyggelige folk\, og en fin anledning til å bli kjent med nye. Som navnet sier\, blir det kveldsmat\, andakt\, bønn og lovsang.
URL:https://norkirken.no/hendelser/g19-kveldsmat-bonn-og-lovsang-sondag-24-november-2024/
CATEGORIES:Gudstjeneste,Kveldsgudstjeneste,Student og unge voksne
END:VEVENT
END:VCALENDAR