BEGIN:VCALENDAR
VERSION:2.0
PRODID:-//Norkirken Bergen - ECPv6.15.20//NONSGML v1.0//EN
CALSCALE:GREGORIAN
METHOD:PUBLISH
X-ORIGINAL-URL:https://norkirken.no
X-WR-CALDESC:Arrangement for Norkirken Bergen
REFRESH-INTERVAL;VALUE=DURATION:PT1H
X-Robots-Tag:noindex
X-PUBLISHED-TTL:PT1H
BEGIN:VTIMEZONE
TZID:Europe/Oslo
BEGIN:DAYLIGHT
TZOFFSETFROM:+0100
TZOFFSETTO:+0200
TZNAME:CEST
DTSTART:20230326T010000
END:DAYLIGHT
BEGIN:STANDARD
TZOFFSETFROM:+0200
TZOFFSETTO:+0100
TZNAME:CET
DTSTART:20231029T010000
END:STANDARD
BEGIN:DAYLIGHT
TZOFFSETFROM:+0100
TZOFFSETTO:+0200
TZNAME:CEST
DTSTART:20240331T010000
END:DAYLIGHT
BEGIN:STANDARD
TZOFFSETFROM:+0200
TZOFFSETTO:+0100
TZNAME:CET
DTSTART:20241027T010000
END:STANDARD
BEGIN:DAYLIGHT
TZOFFSETFROM:+0100
TZOFFSETTO:+0200
TZNAME:CEST
DTSTART:20250330T010000
END:DAYLIGHT
BEGIN:STANDARD
TZOFFSETFROM:+0200
TZOFFSETTO:+0100
TZNAME:CET
DTSTART:20251026T010000
END:STANDARD
END:VTIMEZONE
BEGIN:VEVENT
DTSTART;TZID=Europe/Oslo:20240901T190000
DTEND;TZID=Europe/Oslo:20240901T210000
DTSTAMP:20260426T060051
CREATED:20240620T220000Z
LAST-MODIFIED:20240620T220000Z
UID:28851-1725217200-1725224400@norkirken.no
SUMMARY:G19 - Kveldsmat\, bønn og lovsang
DESCRIPTION:Vi inviterer til en uformell og koselig kveldsmat med hyggelige folk\, og en fin anledning til å bli kjent med nye. Som navnet sier\, blir det kveldsmat\, andakt\, bønn og lovsang.
URL:https://norkirken.no/hendelser/g19-kveldsmat-bonn-og-lovsang-sondag-1-september-2024/
CATEGORIES:Gudstjeneste,Kveldsgudstjeneste,Student og unge voksne
ATTACH;FMTTYPE=image/jpeg:https://norkirken.no/wp-content/uploads/sites/7/2025/04/24-05-25-1080.jpg
END:VEVENT
BEGIN:VEVENT
DTSTART;TZID=Europe/Oslo:20240915T190000
DTEND;TZID=Europe/Oslo:20240915T210000
DTSTAMP:20260426T060051
CREATED:20240620T220000Z
LAST-MODIFIED:20240620T220000Z
UID:28846-1726426800-1726434000@norkirken.no
SUMMARY:G19 - Kveldsmat\, bønn og lovsang
DESCRIPTION:Vi inviterer til en uformell og koselig kveldsmat med hyggelige folk\, og en fin anledning til å bli kjent med nye. Som navnet sier\, blir det kveldsmat\, andakt\, bønn og lovsang.
URL:https://norkirken.no/hendelser/g19-kveldsmat-bonn-og-lovsang-sondag-15-september-2024/
CATEGORIES:Gudstjeneste,Kveldsgudstjeneste,Student og unge voksne
END:VEVENT
BEGIN:VEVENT
DTSTART;TZID=Europe/Oslo:20240929T190000
DTEND;TZID=Europe/Oslo:20240929T210000
DTSTAMP:20260426T060051
CREATED:20240620T220000Z
LAST-MODIFIED:20240620T220000Z
UID:28836-1727636400-1727643600@norkirken.no
SUMMARY:G19 - Kveldsmat\, bønn og lovsang
DESCRIPTION:Vi inviterer til en uformell og koselig kveldsmat med hyggelige folk\, og en fin anledning til å bli kjent med nye. Som navnet sier\, blir det kveldsmat\, andakt\, bønn og lovsang.
URL:https://norkirken.no/hendelser/g19-kveldsmat-bonn-og-lovsang-sondag-29-september-2024/
CATEGORIES:Gudstjeneste,Kveldsgudstjeneste,Student og unge voksne
END:VEVENT
END:VCALENDAR