BEGIN:VCALENDAR
VERSION:2.0
PRODID:-//Norkirken Bergen - ECPv6.15.20//NONSGML v1.0//EN
CALSCALE:GREGORIAN
METHOD:PUBLISH
X-WR-CALNAME:Norkirken Bergen
X-ORIGINAL-URL:https://norkirken.no
X-WR-CALDESC:Arrangement for Norkirken Bergen
REFRESH-INTERVAL;VALUE=DURATION:PT1H
X-Robots-Tag:noindex
X-PUBLISHED-TTL:PT1H
BEGIN:VTIMEZONE
TZID:Europe/Oslo
BEGIN:DAYLIGHT
TZOFFSETFROM:+0100
TZOFFSETTO:+0200
TZNAME:CEST
DTSTART:20250330T010000
END:DAYLIGHT
BEGIN:STANDARD
TZOFFSETFROM:+0200
TZOFFSETTO:+0100
TZNAME:CET
DTSTART:20251026T010000
END:STANDARD
BEGIN:DAYLIGHT
TZOFFSETFROM:+0100
TZOFFSETTO:+0200
TZNAME:CEST
DTSTART:20260329T010000
END:DAYLIGHT
BEGIN:STANDARD
TZOFFSETFROM:+0200
TZOFFSETTO:+0100
TZNAME:CET
DTSTART:20261025T010000
END:STANDARD
BEGIN:DAYLIGHT
TZOFFSETFROM:+0100
TZOFFSETTO:+0200
TZNAME:CEST
DTSTART:20270328T010000
END:DAYLIGHT
BEGIN:STANDARD
TZOFFSETFROM:+0200
TZOFFSETTO:+0100
TZNAME:CET
DTSTART:20271031T010000
END:STANDARD
END:VTIMEZONE
BEGIN:VEVENT
DTSTART;TZID=Europe/Oslo:20260426T110000
DTEND;TZID=Europe/Oslo:20260426T130000
DTSTAMP:20260426T022705
CREATED:20260115T114737Z
LAST-MODIFIED:20260115T160657Z
UID:36166-1777201200-1777208400@norkirken.no
SUMMARY:Gudstjeneste - G11
DESCRIPTION:
URL:https://norkirken.no/hendelser/gudstjeneste-g11-sondag-26-april-2026/
LOCATION:Kompagniet\, Bjørnsons gate 11\, Bergen\, 5059\, Norge
CATEGORIES:Formiddagsgudstjeneste,Gudstjeneste
END:VEVENT
BEGIN:VEVENT
DTSTART;TZID=Europe/Oslo:20260426T190000
DTEND;TZID=Europe/Oslo:20260426T220000
DTSTAMP:20260426T022705
CREATED:20260115T114737Z
LAST-MODIFIED:20260115T160631Z
UID:36167-1777230000-1777240800@norkirken.no
SUMMARY:Lovsangskveld
DESCRIPTION:
URL:https://norkirken.no/hendelser/lovsangskveld-sondag-26-april-2026/
LOCATION:Kompagniet\, Bjørnsons gate 11\, Bergen\, 5059\, Norge
CATEGORIES:Bønnesamling,Student og unge voksne
END:VEVENT
END:VCALENDAR